BEGIN:VCALENDAR
VERSION:2.0
PRODID:-//hacksw/handcal//NONSGML v1.0//EN
BEGIN:VEVENT
UID:8842
DTSTART;VALUE=DATE:20170819
URL;VALUE=URI:ohschonhell.at/?page_id=18101
SUMMARY:MorgenKlang pres Alexander Smith &amp\; Danny Murano
LOCATION:MorgenKlang
END:VEVENT
END:VCALENDAR


