BEGIN:VCALENDAR
VERSION:2.0
PRODID:-//hacksw/handcal//NONSGML v1.0//EN
BEGIN:VEVENT
UID:8856
DTSTART;VALUE=DATE:20170826
URL;VALUE=URI:ohschonhell.at/?page_id=18193
SUMMARY:Steve Hope &amp\; Friends + Season Closing / 26082017 VCBC
LOCATION:VIENNA CITY BEACH CLUB
END:VEVENT
END:VCALENDAR


