BEGIN:VCALENDAR
VERSION:2.0
PRODID:-//hacksw/handcal//NONSGML v1.0//EN
BEGIN:VEVENT
UID:8863
DTSTART;VALUE=DATE:20170915
URL;VALUE=URI:ohschonhell.at/?page_id=18225
SUMMARY:Hi-Psy Summer w/ Mukkepack
LOCATION:SUMMER STATION
END:VEVENT
END:VCALENDAR


