BEGIN:VCALENDAR
VERSION:2.0
PRODID:-//hacksw/handcal//NONSGML v1.0//EN
BEGIN:VEVENT
UID:8866
DTSTART;VALUE=DATE:20170907
URL;VALUE=URI:ohschonhell.at/?page_id=18233
SUMMARY:Sub.live x Rolande Garros x DJ Warzone x Ulrich Rois
LOCATION:Super Unusual Beings
END:VEVENT
END:VCALENDAR


