BEGIN:VCALENDAR
VERSION:2.0
PRODID:-//hacksw/handcal//NONSGML v1.0//EN
BEGIN:VEVENT
UID:8890
DTSTART;VALUE=DATE:20170902
URL;VALUE=URI:ohschonhell.at/?page_id=18349
SUMMARY:Psychedelic UFO Party &quot\;Space Sloth&quot\; Afterhour
LOCATION:CAFE DERWISCH
END:VEVENT
END:VCALENDAR


