BEGIN:VCALENDAR
VERSION:2.0
PRODID:-//hacksw/handcal//NONSGML v1.0//EN
BEGIN:VEVENT
UID:8896
DTSTART;VALUE=DATE:20170826
URL;VALUE=URI:ohschonhell.at/?page_id=18381
SUMMARY:Tonight - Drumworks x RE.SET w/ Submorphics\, Brain &amp\; Wingz
LOCATION:PRIME
END:VEVENT
END:VCALENDAR


