BEGIN:VCALENDAR
VERSION:2.0
PRODID:-//hacksw/handcal//NONSGML v1.0//EN
BEGIN:VEVENT
UID:8907
DTSTART;VALUE=DATE:20170907
URL;VALUE=URI:ohschonhell.at/?page_id=18421
SUMMARY:Wiener Linie - Goodbye Summer Edition
LOCATION:U4
END:VEVENT
END:VCALENDAR


