BEGIN:VCALENDAR
VERSION:2.0
PRODID:-//hacksw/handcal//NONSGML v1.0//EN
BEGIN:VEVENT
UID:8908
DTSTART;VALUE=DATE:20170915
URL;VALUE=URI:ohschonhell.at/?page_id=18423
SUMMARY:Freie Luft: Afterparty
LOCATION:Curtain
END:VEVENT
END:VCALENDAR


