BEGIN:VCALENDAR
VERSION:2.0
PRODID:-//hacksw/handcal//NONSGML v1.0//EN
BEGIN:VEVENT
UID:8918
DTSTART;VALUE=DATE:20170922
URL;VALUE=URI:ohschonhell.at/?page_id=18459
SUMMARY:Der letzte Sommertanz - Tanz durch den Tag - Open Air am Cobenzl
LOCATION:Café Luftschloss Cobenzl
END:VEVENT
END:VCALENDAR


