BEGIN:VCALENDAR
VERSION:2.0
PRODID:-//hacksw/handcal//NONSGML v1.0//EN
BEGIN:VEVENT
UID:8936
DTSTART;VALUE=DATE:20170909
URL;VALUE=URI:ohschonhell.at/?page_id=18536
SUMMARY:LEE vor LUV
LOCATION:PORTO POLLO
END:VEVENT
END:VCALENDAR


