BEGIN:VCALENDAR
VERSION:2.0
PRODID:-//hacksw/handcal//NONSGML v1.0//EN
BEGIN:VEVENT
UID:8954
DTSTART;VALUE=DATE:20170922
URL;VALUE=URI:ohschonhell.at/?page_id=18602
SUMMARY:Tricky! Freeparty
LOCATION:PRIME
END:VEVENT
END:VCALENDAR


