BEGIN:VCALENDAR
VERSION:2.0
PRODID:-//hacksw/handcal//NONSGML v1.0//EN
BEGIN:VEVENT
UID:8958
DTSTART;VALUE=DATE:20170916
URL;VALUE=URI:ohschonhell.at/?page_id=18610
SUMMARY:Horst - Das Opening
LOCATION:HORST
END:VEVENT
END:VCALENDAR


