BEGIN:VCALENDAR
VERSION:2.0
PRODID:-//hacksw/handcal//NONSGML v1.0//EN
BEGIN:VEVENT
UID:8961
DTSTART;VALUE=DATE:20170915
URL;VALUE=URI:ohschonhell.at/?page_id=18616
SUMMARY:Overdose x Voller Freude pres. Subtension
LOCATION:CAMERA CLUB
END:VEVENT
END:VCALENDAR


