BEGIN:VCALENDAR
VERSION:2.0
PRODID:-//hacksw/handcal//NONSGML v1.0//EN
BEGIN:VEVENT
UID:8962
DTSTART;VALUE=DATE:20170915
URL;VALUE=URI:ohschonhell.at/?page_id=18618
SUMMARY:Express Yourself
LOCATION:Super Unusual Beings
END:VEVENT
END:VCALENDAR


