BEGIN:VCALENDAR
VERSION:2.0
PRODID:-//hacksw/handcal//NONSGML v1.0//EN
BEGIN:VEVENT
UID:8965
DTSTART;VALUE=DATE:20170909
URL;VALUE=URI:ohschonhell.at/?page_id=18626
SUMMARY:Overground - Der Samstag im Volksgarten
LOCATION:VOLKSGARTEN
END:VEVENT
END:VCALENDAR


