BEGIN:VCALENDAR
VERSION:2.0
PRODID:-//hacksw/handcal//NONSGML v1.0//EN
BEGIN:VEVENT
UID:8974
DTSTART;VALUE=DATE:20170905
URL;VALUE=URI:ohschonhell.at/?page_id=18646
SUMMARY:Laboratorium 0.1
LOCATION:AU
END:VEVENT
END:VCALENDAR


