BEGIN:VCALENDAR
VERSION:2.0
PRODID:-//hacksw/handcal//NONSGML v1.0//EN
BEGIN:VEVENT
UID:8976
DTSTART;VALUE=DATE:20170902
URL;VALUE=URI:ohschonhell.at/?page_id=18650
SUMMARY:Streetparade Club Connect mit Hofer\, Cedsh\, Haidin &amp\; Akali
LOCATION:Curtain
END:VEVENT
END:VCALENDAR


