BEGIN:VCALENDAR
VERSION:2.0
PRODID:-//hacksw/handcal//NONSGML v1.0//EN
BEGIN:VEVENT
UID:8983
DTSTART;VALUE=DATE:20170929
URL;VALUE=URI:ohschonhell.at/?page_id=18676
SUMMARY:Erna kramt #4
LOCATION:Kramladen
END:VEVENT
END:VCALENDAR


