BEGIN:VCALENDAR
VERSION:2.0
PRODID:-//hacksw/handcal//NONSGML v1.0//EN
BEGIN:VEVENT
UID:8992
DTSTART;VALUE=DATE:20170907
URL;VALUE=URI:ohschonhell.at/?page_id=18696
SUMMARY:Die Woche im SPARK
LOCATION:Spark
END:VEVENT
END:VCALENDAR


