BEGIN:VCALENDAR
VERSION:2.0
PRODID:-//hacksw/handcal//NONSGML v1.0//EN
BEGIN:VEVENT
UID:8995
DTSTART;VALUE=DATE:20170930
URL;VALUE=URI:ohschonhell.at/?page_id=18718
SUMMARY:Tonight - Drumworks w/ Dub Head at Camera Club
LOCATION:CAMERA CLUB
END:VEVENT
END:VCALENDAR


