BEGIN:VCALENDAR
VERSION:2.0
PRODID:-//hacksw/handcal//NONSGML v1.0//EN
BEGIN:VEVENT
UID:9
DTSTART;VALUE=DATE:20131122
URL;VALUE=URI:ohschonhell.at/?page_id=2406
SUMMARY:&lt\;&gt\;&lt\; | CLUBNIGHT | RHADOO
LOCATION:GRELLE FORELLE
END:VEVENT
END:VCALENDAR


