BEGIN:VCALENDAR
VERSION:2.0
PRODID:-//hacksw/handcal//NONSGML v1.0//EN
BEGIN:VEVENT
UID:9012
DTSTART;VALUE=DATE:20171020
URL;VALUE=URI:ohschonhell.at/?page_id=18764
SUMMARY:Meuterei x Akt der Erlösung
LOCATION:Meuterei
END:VEVENT
END:VCALENDAR


