BEGIN:VCALENDAR
VERSION:2.0
PRODID:-//hacksw/handcal//NONSGML v1.0//EN
BEGIN:VEVENT
UID:9019
DTSTART;VALUE=DATE:20170923
URL;VALUE=URI:ohschonhell.at/?page_id=18778
SUMMARY:TABOO Back to the roots
LOCATION:CAMERA CLUB
END:VEVENT
END:VCALENDAR


