BEGIN:VCALENDAR
VERSION:2.0
PRODID:-//hacksw/handcal//NONSGML v1.0//EN
BEGIN:VEVENT
UID:9033
DTSTART;VALUE=DATE:20171007
URL;VALUE=URI:ohschonhell.at/?page_id=18819
SUMMARY:Disco Frisco w/ Johnny ¥en
LOCATION:Spark
END:VEVENT
END:VCALENDAR


