BEGIN:VCALENDAR
VERSION:2.0
PRODID:-//hacksw/handcal//NONSGML v1.0//EN
BEGIN:VEVENT
UID:9041
DTSTART;VALUE=DATE:20170923
URL;VALUE=URI:ohschonhell.at/?page_id=18835
SUMMARY:SuperSuite w/ mikeBurns
LOCATION:Spark
END:VEVENT
END:VCALENDAR


