BEGIN:VCALENDAR
VERSION:2.0
PRODID:-//hacksw/handcal//NONSGML v1.0//EN
BEGIN:VEVENT
UID:9044
DTSTART;VALUE=DATE:20170923
URL;VALUE=URI:ohschonhell.at/?page_id=18841
SUMMARY:Offizielle Goa Afterhour - Fear Dark and Loathing in Vienna - Part 7
LOCATION:MorgenKlang
END:VEVENT
END:VCALENDAR


