BEGIN:VCALENDAR
VERSION:2.0
PRODID:-//hacksw/handcal//NONSGML v1.0//EN
BEGIN:VEVENT
UID:9054
DTSTART;VALUE=DATE:20170916
URL;VALUE=URI:ohschonhell.at/?page_id=18861
SUMMARY:The Square² Recording Session
LOCATION:Spark
END:VEVENT
END:VCALENDAR


