BEGIN:VCALENDAR
VERSION:2.0
PRODID:-//hacksw/handcal//NONSGML v1.0//EN
BEGIN:VEVENT
UID:9057
DTSTART;VALUE=DATE:20171006
URL;VALUE=URI:ohschonhell.at/?page_id=18880
SUMMARY:UNTER die Gürtellinie | Free &amp\; Techno
LOCATION:Kramladen
END:VEVENT
END:VCALENDAR


