BEGIN:VCALENDAR
VERSION:2.0
PRODID:-//hacksw/handcal//NONSGML v1.0//EN
BEGIN:VEVENT
UID:9059
DTSTART;VALUE=DATE:20170926
URL;VALUE=URI:ohschonhell.at/?page_id=18884
SUMMARY:Club Destillat
LOCATION:PRIME
END:VEVENT
END:VCALENDAR


