BEGIN:VCALENDAR
VERSION:2.0
PRODID:-//hacksw/handcal//NONSGML v1.0//EN
BEGIN:VEVENT
UID:9064
DTSTART;VALUE=DATE:20170925
URL;VALUE=URI:ohschonhell.at/?page_id=18906
SUMMARY:Tonight - Bassline Mondays - Curtain Club
LOCATION:Curtain
END:VEVENT
END:VCALENDAR


