BEGIN:VCALENDAR
VERSION:2.0
PRODID:-//hacksw/handcal//NONSGML v1.0//EN
BEGIN:VEVENT
UID:9067
DTSTART;VALUE=DATE:20170930
URL;VALUE=URI:ohschonhell.at/?page_id=18924
SUMMARY:MOVIN w/ Alex Ground (Desolat / Kina - IT)
LOCATION:SASS
END:VEVENT
END:VCALENDAR


