BEGIN:VCALENDAR
VERSION:2.0
PRODID:-//hacksw/handcal//NONSGML v1.0//EN
BEGIN:VEVENT
UID:9080
DTSTART;VALUE=DATE:20171013
URL;VALUE=URI:ohschonhell.at/?page_id=18962
SUMMARY:Celestial Mechanicks II
LOCATION:Super Unusual Beings
END:VEVENT
END:VCALENDAR


