BEGIN:VCALENDAR
VERSION:2.0
PRODID:-//hacksw/handcal//NONSGML v1.0//EN
BEGIN:VEVENT
UID:9082
DTSTART;VALUE=DATE:20171007
URL;VALUE=URI:ohschonhell.at/?page_id=18966
SUMMARY:SUB.tropic
LOCATION:Super Unusual Beings
END:VEVENT
END:VCALENDAR


