BEGIN:VCALENDAR
VERSION:2.0
PRODID:-//hacksw/handcal//NONSGML v1.0//EN
BEGIN:VEVENT
UID:9087
DTSTART;VALUE=DATE:20170930
URL;VALUE=URI:ohschonhell.at/?page_id=18976
SUMMARY:Super Disco Spezial
LOCATION:HORST
END:VEVENT
END:VCALENDAR


