BEGIN:VCALENDAR
VERSION:2.0
PRODID:-//hacksw/handcal//NONSGML v1.0//EN
BEGIN:VEVENT
UID:9090
DTSTART;VALUE=DATE:20170929
URL;VALUE=URI:ohschonhell.at/?page_id=18982
SUMMARY:Rotary Popcorn Klub #2 Scheibosan / Smacs &amp\; Kong und mehr
LOCATION:SASS
END:VEVENT
END:VCALENDAR


