BEGIN:VCALENDAR
VERSION:2.0
PRODID:-//hacksw/handcal//NONSGML v1.0//EN
BEGIN:VEVENT
UID:9100
DTSTART;VALUE=DATE:20171025
URL;VALUE=URI:ohschonhell.at/?page_id=19005
SUMMARY:Zero Gravity meets Technopark
LOCATION:CAMERA CLUB
END:VEVENT
END:VCALENDAR


