BEGIN:VCALENDAR
VERSION:2.0
PRODID:-//hacksw/handcal//NONSGML v1.0//EN
BEGIN:VEVENT
UID:9109
DTSTART;VALUE=DATE:20171007
URL;VALUE=URI:ohschonhell.at/?page_id=19044
SUMMARY:Techno entgleist - Free Party (!!07.10.2017!!)
LOCATION:AUSLAGE
END:VEVENT
END:VCALENDAR


