BEGIN:VCALENDAR
VERSION:2.0
PRODID:-//hacksw/handcal//NONSGML v1.0//EN
BEGIN:VEVENT
UID:9116
DTSTART;VALUE=DATE:20171003
URL;VALUE=URI:ohschonhell.at/?page_id=19058
SUMMARY:Techno Tuesday
LOCATION:ELEKTRO GÖNNER
END:VEVENT
END:VCALENDAR


