BEGIN:VCALENDAR
VERSION:2.0
PRODID:-//hacksw/handcal//NONSGML v1.0//EN
BEGIN:VEVENT
UID:9122
DTSTART;VALUE=DATE:20171027
URL;VALUE=URI:ohschonhell.at/?page_id=19080
SUMMARY:Take2 w/ ANNIX &amp\; James Marvel
LOCATION:CAMERA CLUB
END:VEVENT
END:VCALENDAR


