BEGIN:VCALENDAR
VERSION:2.0
PRODID:-//hacksw/handcal//NONSGML v1.0//EN
BEGIN:VEVENT
UID:9129
DTSTART;VALUE=DATE:20170930
URL;VALUE=URI:ohschonhell.at/?page_id=19094
SUMMARY:Ø Stanislav Tolkachev\, Codex Empire\, Alpha Tracks\, Misonica
LOCATION:OPERA CLUB
END:VEVENT
END:VCALENDAR


