BEGIN:VCALENDAR
VERSION:2.0
PRODID:-//hacksw/handcal//NONSGML v1.0//EN
BEGIN:VEVENT
UID:9134
DTSTART;VALUE=DATE:20171021
URL;VALUE=URI:ohschonhell.at/?page_id=19111
SUMMARY:PACOU at Sub.Wien
LOCATION:Super Unusual Beings
END:VEVENT
END:VCALENDAR


