BEGIN:VCALENDAR
VERSION:2.0
PRODID:-//hacksw/handcal//NONSGML v1.0//EN
BEGIN:VEVENT
UID:9140
DTSTART;VALUE=DATE:20170929
URL;VALUE=URI:ohschonhell.at/?page_id=19123
SUMMARY:Sticks &amp\; Stones #01
LOCATION:ELEKTRO GÖNNER
END:VEVENT
END:VCALENDAR


