BEGIN:VCALENDAR
VERSION:2.0
PRODID:-//hacksw/handcal//NONSGML v1.0//EN
BEGIN:VEVENT
UID:9150
DTSTART;VALUE=DATE:20171027
URL;VALUE=URI:ohschonhell.at/?page_id=19155
SUMMARY:sama recordings pres. from different angles III
LOCATION:AU
END:VEVENT
END:VCALENDAR


