BEGIN:VCALENDAR
VERSION:2.0
PRODID:-//hacksw/handcal//NONSGML v1.0//EN
BEGIN:VEVENT
UID:9157
DTSTART;VALUE=DATE:20171020
URL;VALUE=URI:ohschonhell.at/?page_id=19169
SUMMARY:OFF_ w/ Jakobin &amp\; Domino
LOCATION:Spark
END:VEVENT
END:VCALENDAR


