BEGIN:VCALENDAR
VERSION:2.0
PRODID:-//hacksw/handcal//NONSGML v1.0//EN
BEGIN:VEVENT
UID:9163
DTSTART;VALUE=DATE:20171006
URL;VALUE=URI:ohschonhell.at/?page_id=19181
SUMMARY:Camo &amp\; Krooked - Mosaik Tour presented by Volume - Vienna
LOCATION:GASOMETER
END:VEVENT
END:VCALENDAR


