BEGIN:VCALENDAR
VERSION:2.0
PRODID:-//hacksw/handcal//NONSGML v1.0//EN
BEGIN:VEVENT
UID:918
DTSTART;VALUE=DATE:20140403
URL;VALUE=URI:ohschonhell.at/?page_id=3384
SUMMARY:AV LIVE PERFORMANCE - DAY I - ROBB | THE RUFF PACK | SWEET HEAT
LOCATION:BRUT
END:VEVENT
END:VCALENDAR


