BEGIN:VCALENDAR
VERSION:2.0
PRODID:-//hacksw/handcal//NONSGML v1.0//EN
BEGIN:VEVENT
UID:9184
DTSTART;VALUE=DATE:20171025
URL;VALUE=URI:ohschonhell.at/?page_id=19235
SUMMARY:Swing it - finest Electro Swing
LOCATION:ROTE BAR
END:VEVENT
END:VCALENDAR


