BEGIN:VCALENDAR
VERSION:2.0
PRODID:-//hacksw/handcal//NONSGML v1.0//EN
BEGIN:VEVENT
UID:9187
DTSTART;VALUE=DATE:20171020
URL;VALUE=URI:ohschonhell.at/?page_id=19241
SUMMARY:Scheitern
LOCATION:OPERA CLUB
END:VEVENT
END:VCALENDAR


