BEGIN:VCALENDAR
VERSION:2.0
PRODID:-//hacksw/handcal//NONSGML v1.0//EN
BEGIN:VEVENT
UID:9196
DTSTART;VALUE=DATE:20171014
URL;VALUE=URI:ohschonhell.at/?page_id=19259
SUMMARY:Galactic Township #10
LOCATION:AU
END:VEVENT
END:VCALENDAR


