BEGIN:VCALENDAR
VERSION:2.0
PRODID:-//hacksw/handcal//NONSGML v1.0//EN
BEGIN:VEVENT
UID:9205
DTSTART;VALUE=DATE:20171027
URL;VALUE=URI:ohschonhell.at/?page_id=19283
SUMMARY:Joyce Muniz &amp\; Friends x Stereo Mc&#039\;s I Connected
LOCATION:SASS
END:VEVENT
END:VCALENDAR


